BEGIN:VCALENDAR
VERSION:2.0
PRODID:-//German Water Partnership
 //NONSGML Events //EN
CALSCALE:GREGORIAN
X-WR-CALNAME:German Water Partnership
BEGIN:VEVENT
CREATED:20260417T083541Z
UID:32052
DTEND;VALUE=DATE:20260623T150000Z
DTSTART;VALUE=DATE:20260623T110000Z
DTSTAMP:20260422T002322Z
LOCATION:
DESCRIPTION:Wir laden Sie herzlich zu unserer 19. Sitzung des Regionalforums Norda
SUMMARY:Regional Forum North Africa | 19th Session
ORGANIZER:German Water Partnership
URL;VALUE=URI:https://germanwaterpartnership.de/eventmanager/regional-forum-north-africa-19th-session/
TRANSP:OPAQUE
BEGIN:VALARM
ACTION:DISPLAY
TRIGGER;VALUE=DATE-TIME:20260422T022322Z
DESCRIPTION:Reminder for Regional Forum North Africa | 19th Session
END:VALARM
END:VEVENT
END:VCALENDAR