BEGIN:VCALENDAR
VERSION:2.0
PRODID:-//German Water Partnership
 //NONSGML Events //EN
CALSCALE:GREGORIAN
X-WR-CALNAME:German Water Partnership
BEGIN:VEVENT
CREATED:20251112T172914Z
UID:31071
DTEND;VALUE=DATE:20260318T230000Z
DTSTART;VALUE=DATE:20260316T230000Z
DTSTAMP:20260423T173056Z
LOCATION:
DESCRIPTION:Vom <strong>17.03. bis zum 19.03.2026</strong> führt die Deutsch-Schw
SUMMARY:Geschäftsanbahnung Schweden
ORGANIZER:German Water Partnership
URL;VALUE=URI:https://germanwaterpartnership.de/eventmanager/geschaeftsanbahnung-schweden/
TRANSP:OPAQUE
BEGIN:VALARM
ACTION:DISPLAY
TRIGGER;VALUE=DATE-TIME:20260423T193056Z
DESCRIPTION:Reminder for Geschäftsanbahnung Schweden
END:VALARM
END:VEVENT
END:VCALENDAR