BEGIN:VCALENDAR
VERSION:2.0
PRODID:-//German Water Partnership
 //NONSGML Events //EN
CALSCALE:GREGORIAN
X-WR-CALNAME:German Water Partnership
BEGIN:VEVENT
CREATED:20251009T152244Z
UID:30866
DTEND;VALUE=DATE:20260319T131500Z
DTSTART;VALUE=DATE:20260319T080000Z
DTSTAMP:20260424T163458Z
LOCATION:
DESCRIPTION:<p class="x_MsoNormal">Im Namen der Arbeitskreisleitung möchten wir S
SUMMARY:Working Group Water 4.0 | 20th Session
ORGANIZER:German Water Partnership
URL;VALUE=URI:https://germanwaterpartnership.de/eventmanager/working-group-water-4-0-20th-session/
TRANSP:OPAQUE
BEGIN:VALARM
ACTION:DISPLAY
TRIGGER;VALUE=DATE-TIME:20260424T183458Z
DESCRIPTION:Reminder for Working Group Water 4.0 | 20th Session
END:VALARM
END:VEVENT
END:VCALENDAR