BEGIN:VCALENDAR
VERSION:2.0
PRODID:-//German Water Partnership
 //NONSGML Events //EN
CALSCALE:GREGORIAN
X-WR-CALNAME:German Water Partnership
BEGIN:VEVENT
CREATED:20250701T123503Z
UID:30241
DTEND;VALUE=DATE:20260625T160000Z
DTSTART;VALUE=DATE:20260625T120000Z
DTSTAMP:20260424T152107Z
LOCATION:
DESCRIPTION:<p data-start="232" data-end="526">Wir laden alle GWP-Mitglieder herzl
SUMMARY:23. Mitgliederversammlung von German Water Partnership e.V.
ORGANIZER:German Water Partnership
URL;VALUE=URI:https://germanwaterpartnership.de/eventmanager/23rd-general-meeting-of-german-water-partnership/
TRANSP:OPAQUE
BEGIN:VALARM
ACTION:DISPLAY
TRIGGER;VALUE=DATE-TIME:20260424T172107Z
DESCRIPTION:Reminder for 23. Mitgliederversammlung von German Water Partnership e.V.
END:VALARM
END:VEVENT
END:VCALENDAR