BEGIN:VCALENDAR
VERSION:2.0
PRODID:-//German Water Partnership
 //NONSGML Events //EN
CALSCALE:GREGORIAN
X-WR-CALNAME:German Water Partnership
BEGIN:VEVENT
CREATED:20250523T145707Z
UID:29912
DTEND;VALUE=DATE:20250619T220000Z
DTSTART;VALUE=DATE:20250615T220000Z
DTSTAMP:20260424T162819Z
LOCATION:
DESCRIPTION:<p class="" data-start="150" data-end="261"><strong data-start="150" d
SUMMARY:Markterkundung Côte d&#8217\;Ivoire
ORGANIZER:German Water Partnership
URL;VALUE=URI:https://germanwaterpartnership.de/eventmanager/markterkundung-cote-divoire/
TRANSP:OPAQUE
BEGIN:VALARM
ACTION:DISPLAY
TRIGGER;VALUE=DATE-TIME:20260424T182819Z
DESCRIPTION:Reminder for Markterkundung Côte d&#8217\;Ivoire
END:VALARM
END:VEVENT
END:VCALENDAR