BEGIN:VCALENDAR
VERSION:2.0
PRODID:-//German Water Partnership
 //NONSGML Events //EN
CALSCALE:GREGORIAN
X-WR-CALNAME:German Water Partnership
BEGIN:VEVENT
CREATED:20250509T123024Z
UID:29910
DTEND;VALUE=DATE:20260127T230000Z
DTSTART;VALUE=DATE:20260125T230000Z
DTSTAMP:20260424T163509Z
LOCATION:
DESCRIPTION:IFAT-Premiere im Nahen Osten: Vom 26. bis 28. Januar 2026 findet erstm
SUMMARY:IFAT Saudi Arabia
ORGANIZER:German Water Partnership
URL;VALUE=URI:https://germanwaterpartnership.de/eventmanager/ifat-saudi-arabia/
TRANSP:OPAQUE
BEGIN:VALARM
ACTION:DISPLAY
TRIGGER;VALUE=DATE-TIME:20260424T183509Z
DESCRIPTION:Reminder for IFAT Saudi Arabia
END:VALARM
END:VEVENT
END:VCALENDAR