BEGIN:VCALENDAR
VERSION:2.0
PRODID:-//German Water Partnership
 //NONSGML Events //EN
CALSCALE:GREGORIAN
X-WR-CALNAME:German Water Partnership
BEGIN:VEVENT
CREATED:20250425T140454Z
UID:29899
DTEND;VALUE=DATE:20251124T230000Z
DTSTART;VALUE=DATE:20251122T230000Z
DTSTAMP:20260424T174703Z
LOCATION:
DESCRIPTION:Die diesjährige IWWI International Water, Waste &amp; Infrastructure 
SUMMARY:IWWI &#8211\; International Water\, Waste &#038\; Infrastructure
ORGANIZER:German Water Partnership
URL;VALUE=URI:https://germanwaterpartnership.de/eventmanager/iwwi-international-water-waste-infrastructure/
TRANSP:OPAQUE
BEGIN:VALARM
ACTION:DISPLAY
TRIGGER;VALUE=DATE-TIME:20260424T194703Z
DESCRIPTION:Reminder for IWWI &#8211\; International Water\, Waste &#038\; Infrastructure
END:VALARM
END:VEVENT
END:VCALENDAR