BEGIN:VCALENDAR
VERSION:2.0
PRODID:-//German Water Partnership
 //NONSGML Events //EN
CALSCALE:GREGORIAN
X-WR-CALNAME:German Water Partnership
BEGIN:VEVENT
CREATED:20250401T141831Z
UID:29604
DTEND;VALUE=DATE:20250915T220000Z
DTSTART;VALUE=DATE:20250914T220000Z
DTSTAMP:20260424T163500Z
LOCATION:
DESCRIPTION:Wir laden Sie herzlich zur 26. Sitzung des Regionalforums Lateinamerik
SUMMARY:Regional Section Latin America | 26th Session
ORGANIZER:German Water Partnership
URL;VALUE=URI:https://germanwaterpartnership.de/eventmanager/regional-section-latin-america-26th-session/
TRANSP:OPAQUE
BEGIN:VALARM
ACTION:DISPLAY
TRIGGER;VALUE=DATE-TIME:20260424T183500Z
DESCRIPTION:Reminder for Regional Section Latin America | 26th Session
END:VALARM
END:VEVENT
END:VCALENDAR