BEGIN:VCALENDAR
VERSION:2.0
PRODID:-//German Water Partnership
 //NONSGML Events //EN
CALSCALE:GREGORIAN
X-WR-CALNAME:German Water Partnership
BEGIN:VEVENT
CREATED:20241128T124734Z
UID:28299
DTEND;VALUE=DATE:20250312T120000Z
DTSTART;VALUE=DATE:20250311T140000Z
DTSTAMP:20260424T164717Z
LOCATION:
DESCRIPTION:Liebe Mitglieder und Interessierte, wir laden Sie herzlich zur 19. Sit
SUMMARY:Arbeitskreis Betrieb und Bildung | 19. Sitzung
ORGANIZER:German Water Partnership
URL;VALUE=URI:https://germanwaterpartnership.de/eventmanager/arbeitskreis-betrieb-und-bildung-19-sitzung/
TRANSP:OPAQUE
BEGIN:VALARM
ACTION:DISPLAY
TRIGGER;VALUE=DATE-TIME:20260424T184717Z
DESCRIPTION:Reminder for Arbeitskreis Betrieb und Bildung | 19. Sitzung
END:VALARM
END:VEVENT
END:VCALENDAR