BEGIN:VCALENDAR
VERSION:2.0
PRODID:-//German Water Partnership
 //NONSGML Events //EN
CALSCALE:GREGORIAN
X-WR-CALNAME:German Water Partnership
BEGIN:VEVENT
CREATED:20240423T080032Z
UID:26416
DTEND;VALUE=DATE:20240514T113000Z
DTSTART;VALUE=DATE:20240514T103000Z
DTSTAMP:20260419T130115Z
LOCATION:
DESCRIPTION:<h3>AK-Treffen im Rahmen der IFAT München 2024</h3> Im Namen der Arbe
SUMMARY:Working Group Agricultural Irrigation @ IFAT Munich 2024
ORGANIZER:German Water Partnership
URL;VALUE=URI:https://germanwaterpartnership.de/eventmanager/working-group-agricultural-irrigation-ifat-munich-2024/
TRANSP:OPAQUE
BEGIN:VALARM
ACTION:DISPLAY
TRIGGER;VALUE=DATE-TIME:20260419T150115Z
DESCRIPTION:Reminder for Working Group Agricultural Irrigation @ IFAT Munich 2024
END:VALARM
END:VEVENT
END:VCALENDAR