BEGIN:VCALENDAR
VERSION:2.0
PRODID:-//German Water Partnership
 //NONSGML Events //EN
CALSCALE:GREGORIAN
X-WR-CALNAME:German Water Partnership
BEGIN:VEVENT
CREATED:20240131T190333Z
UID:25664
DTEND;VALUE=DATE:20240627T100000Z
DTSTART;VALUE=DATE:20240627T070000Z
DTSTAMP:20260420T080332Z
LOCATION:
DESCRIPTION:Das Regionalforum EECCA lädt Sie herzlich zur nächsten 9. Sitzung <s
SUMMARY:Regionalforum EECCA | 9. Sitzung
ORGANIZER:German Water Partnership
URL;VALUE=URI:https://germanwaterpartnership.de/eventmanager/regionalforum-eecca-9-sitzung/
TRANSP:OPAQUE
BEGIN:VALARM
ACTION:DISPLAY
TRIGGER;VALUE=DATE-TIME:20260420T100332Z
DESCRIPTION:Reminder for Regionalforum EECCA | 9. Sitzung
END:VALARM
END:VEVENT
END:VCALENDAR