BEGIN:VCALENDAR
VERSION:2.0
PRODID:-//German Water Partnership
 //NONSGML Events //EN
CALSCALE:GREGORIAN
X-WR-CALNAME:German Water Partnership
BEGIN:VEVENT
CREATED:20230605T082338Z
UID:24015
DTEND;VALUE=DATE:20230614T130000Z
DTSTART;VALUE=DATE:20230614T123000Z
DTSTAMP:20260421T082932Z
LOCATION:
DESCRIPTION:Die Betreiberplattform zur Stärkung von Partnerschaften kommunaler Un
SUMMARY:Betreiberpartnerschaften | Sprechstunde für kommunale Betreiber
ORGANIZER:German Water Partnership
URL;VALUE=URI:https://germanwaterpartnership.de/eventmanager/betreiberpartnerschaften-sprechstunde-fuer-kommunale-betreiber-5/
TRANSP:OPAQUE
BEGIN:VALARM
ACTION:DISPLAY
TRIGGER;VALUE=DATE-TIME:20260421T102932Z
DESCRIPTION:Reminder for Betreiberpartnerschaften | Sprechstunde für kommunale Betreiber
END:VALARM
END:VEVENT
END:VCALENDAR