BEGIN:VCALENDAR
VERSION:2.0
PRODID:-//German Water Partnership
 //NONSGML Events //EN
CALSCALE:GREGORIAN
X-WR-CALNAME:German Water Partnership
BEGIN:VEVENT
CREATED:20211208T161757Z
UID:18184
DTEND;VALUE=DATE:20220126T230000Z
DTSTART;VALUE=DATE:20220124T230000Z
DTSTAMP:20260421T082951Z
LOCATION:
DESCRIPTION:Die DWA fÃ¼hrt vom 25. â€“ 27. Januar 2022 wieder ein ONLINE-Seminar â
SUMMARY:DWA Seminar &#8220\;The German Water Sector&#8221\;
ORGANIZER:German Water Partnership
URL;VALUE=URI:https://germanwaterpartnership.de/eventmanager/dwa-seminar-the-german-water-sector/
TRANSP:OPAQUE
BEGIN:VALARM
ACTION:DISPLAY
TRIGGER;VALUE=DATE-TIME:20260421T102951Z
DESCRIPTION:Reminder for DWA Seminar &#8220\;The German Water Sector&#8221\;
END:VALARM
END:VEVENT
END:VCALENDAR