BEGIN:VCALENDAR
VERSION:2.0
PRODID:-//German Water Partnership
 //NONSGML Events //EN
CALSCALE:GREGORIAN
X-WR-CALNAME:German Water Partnership
BEGIN:VEVENT
CREATED:20211020T205746Z
UID:17694
DTEND;VALUE=DATE:20211117T154500Z
DTSTART;VALUE=DATE:20211117T121500Z
DTSTAMP:20260421T082947Z
LOCATION:
DESCRIPTION:Daseinsvorsorge auf hohem Niveau ist in Deutschland selbstverständlic
SUMMARY:„Kommunal meets Global“ – Nord
ORGANIZER:German Water Partnership
URL;VALUE=URI:https://germanwaterpartnership.de/eventmanager/kommunal-meets-global-nord/
TRANSP:OPAQUE
BEGIN:VALARM
ACTION:DISPLAY
TRIGGER;VALUE=DATE-TIME:20260421T102947Z
DESCRIPTION:Reminder for „Kommunal meets Global“ – Nord
END:VALARM
END:VEVENT
END:VCALENDAR