BEGIN:VCALENDAR
VERSION:2.0
PRODID:-//German Water Partnership
 //NONSGML Events //EN
CALSCALE:GREGORIAN
X-WR-CALNAME:German Water Partnership
BEGIN:VEVENT
CREATED:20210224T103406Z
UID:15902
DTEND;VALUE=DATE:20211006T220000Z
DTSTART;VALUE=DATE:20211004T220000Z
DTSTAMP:20260423T001218Z
LOCATION:
DESCRIPTION:Die Ausstellung für Wasser, Energie, Technologie und Umwelt (WETEX) u
SUMMARY:WETEX
ORGANIZER:German Water Partnership
URL;VALUE=URI:https://germanwaterpartnership.de/eventmanager/wetex/
TRANSP:OPAQUE
BEGIN:VALARM
ACTION:DISPLAY
TRIGGER;VALUE=DATE-TIME:20260423T021218Z
DESCRIPTION:Reminder for WETEX
END:VALARM
END:VEVENT
END:VCALENDAR