BEGIN:VCALENDAR
VERSION:2.0
PRODID:-//German Water Partnership
 //NONSGML Events //EN
CALSCALE:GREGORIAN
X-WR-CALNAME:German Water Partnership
BEGIN:VEVENT
CREATED:20210224T103325Z
UID:15901
DTEND;VALUE=DATE:20211022T220000Z
DTSTART;VALUE=DATE:20211020T220000Z
DTSTAMP:20260423T002838Z
LOCATION:
DESCRIPTION:<p class="summary">Die IFAT Eurasia ist Eurasiens führende Fachmesse 
SUMMARY:IFAT Eurasia
ORGANIZER:German Water Partnership
URL;VALUE=URI:https://germanwaterpartnership.de/eventmanager/ifat-eurasia/
TRANSP:OPAQUE
BEGIN:VALARM
ACTION:DISPLAY
TRIGGER;VALUE=DATE-TIME:20260423T022838Z
DESCRIPTION:Reminder for IFAT Eurasia
END:VALARM
END:VEVENT
END:VCALENDAR