BEGIN:VCALENDAR
VERSION:2.0
PRODID:-//German Water Partnership
 //NONSGML Events //EN
CALSCALE:GREGORIAN
X-WR-CALNAME:German Water Partnership
BEGIN:VEVENT
CREATED:20210115T131838Z
UID:15477
DTEND;VALUE=DATE:20210519T220000Z
DTSTART;VALUE=DATE:20210517T220000Z
DTSTAMP:20260423T001714Z
LOCATION:
DESCRIPTION:Zur offiziellen Messe Homepage hier: <a href="http://www.aqua-therm.ki
SUMMARY:Aqua-Therm Kyiv
ORGANIZER:German Water Partnership
URL;VALUE=URI:https://germanwaterpartnership.de/eventmanager/aqua-therm-kyiv/
TRANSP:OPAQUE
BEGIN:VALARM
ACTION:DISPLAY
TRIGGER;VALUE=DATE-TIME:20260423T021714Z
DESCRIPTION:Reminder for Aqua-Therm Kyiv
END:VALARM
END:VEVENT
END:VCALENDAR