BEGIN:VCALENDAR
VERSION:2.0
PRODID:-//German Water Partnership
 //NONSGML Events //EN
CALSCALE:GREGORIAN
X-WR-CALNAME:German Water Partnership
BEGIN:VEVENT
CREATED:20201021T123045Z
UID:14897
DTEND;VALUE=DATE:20201103T100000Z
DTSTART;VALUE=DATE:20201103T080000Z
DTSTAMP:20260419T125921Z
LOCATION:
DESCRIPTION:GWP lädt herzlich zur Sitzung des Regionalforums Südosteuropa am 03.
SUMMARY:Regional Section South East Europe: 15th session
ORGANIZER:German Water Partnership
URL;VALUE=URI:https://germanwaterpartnership.de/eventmanager/regional-section-south-east-europe-15th-session-2/
TRANSP:OPAQUE
BEGIN:VALARM
ACTION:DISPLAY
TRIGGER;VALUE=DATE-TIME:20260419T145921Z
DESCRIPTION:Reminder for Regional Section South East Europe: 15th session
END:VALARM
END:VEVENT
END:VCALENDAR