BEGIN:VCALENDAR
VERSION:2.0
PRODID:-//German Water Partnership
 //NONSGML Events //EN
CALSCALE:GREGORIAN
X-WR-CALNAME:German Water Partnership
BEGIN:VEVENT
CREATED:20200923T083659Z
UID:14712
DTEND;VALUE=DATE:20201027T103000Z
DTSTART;VALUE=DATE:20201027T083000Z
DTSTAMP:20260421T082934Z
LOCATION:
DESCRIPTION:<h3><span style="color: #26ad94;">Weitere Informationen für Mitgliede
SUMMARY:33. Sitzung Regionalforum Afrika
ORGANIZER:German Water Partnership
URL;VALUE=URI:https://germanwaterpartnership.de/eventmanager/33-sitzung-regionalforum-afrika-2/
TRANSP:OPAQUE
BEGIN:VALARM
ACTION:DISPLAY
TRIGGER;VALUE=DATE-TIME:20260421T102934Z
DESCRIPTION:Reminder for 33. Sitzung Regionalforum Afrika
END:VALARM
END:VEVENT
END:VCALENDAR