BEGIN:VCALENDAR
VERSION:2.0
PRODID:-//German Water Partnership
 //NONSGML Events //EN
CALSCALE:GREGORIAN
X-WR-CALNAME:German Water Partnership
BEGIN:VEVENT
CREATED:20200807T113211Z
UID:14593
DTEND;VALUE=DATE:20210128T110000Z
DTSTART;VALUE=DATE:20210128T083000Z
DTSTAMP:20260421T082932Z
LOCATION:
DESCRIPTION:<p class="x_MsoNormal">Weitere Informationen zu den Themen der 33. Sit
SUMMARY:Regional Section Turkey I 33. Session
ORGANIZER:German Water Partnership
URL;VALUE=URI:https://germanwaterpartnership.de/eventmanager/32-sitzung-rf-tuerkei/
TRANSP:OPAQUE
BEGIN:VALARM
ACTION:DISPLAY
TRIGGER;VALUE=DATE-TIME:20260421T102932Z
DESCRIPTION:Reminder for Regional Section Turkey I 33. Session
END:VALARM
END:VEVENT
END:VCALENDAR