BEGIN:VCALENDAR
VERSION:2.0
PRODID:-//German Water Partnership
 //NONSGML Events //EN
CALSCALE:GREGORIAN
X-WR-CALNAME:German Water Partnership
BEGIN:VEVENT
CREATED:20200727T153857Z
UID:14507
DTEND;VALUE=DATE:20200901T140000Z
DTSTART;VALUE=DATE:20200901T110000Z
DTSTAMP:20260421T093457Z
LOCATION:
DESCRIPTION:Im Rahmen der Arbeiten am "<a href="https://germanwaterpartnership.de/
SUMMARY:Industriewasserkompendium: Online-Workshop MENA
ORGANIZER:German Water Partnership
URL;VALUE=URI:https://germanwaterpartnership.de/eventmanager/iwk-online-workshop-mena/
TRANSP:OPAQUE
BEGIN:VALARM
ACTION:DISPLAY
TRIGGER;VALUE=DATE-TIME:20260421T113457Z
DESCRIPTION:Reminder for Industriewasserkompendium: Online-Workshop MENA
END:VALARM
END:VEVENT
END:VCALENDAR