BEGIN:VCALENDAR
VERSION:2.0
PRODID:-//German Water Partnership
 //NONSGML Events //EN
CALSCALE:GREGORIAN
X-WR-CALNAME:German Water Partnership
BEGIN:VEVENT
CREATED:20200519T082751Z
UID:14104
DTEND;VALUE=DATE:20200526T150000Z
DTSTART;VALUE=DATE:20200526T140000Z
DTSTAMP:20260421T083155Z
LOCATION:
DESCRIPTION:<h2>How Covid-19 is Shaking Up &amp; Transforming Water Innovation</h2
SUMMARY:Aquatech: How Covid-19 is Shaking Up &#038\; Transforming Water Innovation
ORGANIZER:German Water Partnership
URL;VALUE=URI:https://germanwaterpartnership.de/eventmanager/aquatech-how-covid-19-is-shaking-up-transforming-water-innovation/
TRANSP:OPAQUE
BEGIN:VALARM
ACTION:DISPLAY
TRIGGER;VALUE=DATE-TIME:20260421T103155Z
DESCRIPTION:Reminder for Aquatech: How Covid-19 is Shaking Up &#038\; Transforming Water Innovation
END:VALARM
END:VEVENT
END:VCALENDAR