BEGIN:VCALENDAR
VERSION:2.0
PRODID:-//German Water Partnership
 //NONSGML Events //EN
CALSCALE:GREGORIAN
X-WR-CALNAME:German Water Partnership
BEGIN:VEVENT
CREATED:20200518T072635Z
UID:14089
DTEND;VALUE=DATE:20260421T063045Z
DTSTART;VALUE=DATE:20200616T120000Z
DTSTAMP:20260421T083045Z
LOCATION:
DESCRIPTION:<strong>The Middle East Water Forum invites you to join their webinar:
SUMMARY:The Impact and Outlook of the Coronavirus Crisis on Water and Food Security in the Arab Region
ORGANIZER:German Water Partnership
URL;VALUE=URI:https://germanwaterpartnership.de/eventmanager/mewfwebinarcoronainarabregion/
TRANSP:OPAQUE
BEGIN:VALARM
ACTION:DISPLAY
TRIGGER;VALUE=DATE-TIME:20260421T103045Z
DESCRIPTION:Reminder for The Impact and Outlook of the Coronavirus Crisis on Water and Food Security in the Arab Region
END:VALARM
END:VEVENT
END:VCALENDAR