BEGIN:VCALENDAR
VERSION:2.0
PRODID:-//German Water Partnership
 //NONSGML Events //EN
CALSCALE:GREGORIAN
X-WR-CALNAME:German Water Partnership
BEGIN:VEVENT
CREATED:20200428T141106Z
UID:13640
DTEND;VALUE=DATE:20200609T133000Z
DTSTART;VALUE=DATE:20200609T120000Z
DTSTAMP:20260421T082921Z
LOCATION:
DESCRIPTION:<p class="x_MsoNormal">Die aktuelle Situation rund um COVID-19 stellt 
SUMMARY:14. Sitzung Regionalforum Lateinamerika
ORGANIZER:German Water Partnership
URL;VALUE=URI:https://germanwaterpartnership.de/eventmanager/14-online-meeting-regional-section-latin-america/
TRANSP:OPAQUE
BEGIN:VALARM
ACTION:DISPLAY
TRIGGER;VALUE=DATE-TIME:20260421T102921Z
DESCRIPTION:Reminder for 14. Sitzung Regionalforum Lateinamerika
END:VALARM
END:VEVENT
END:VCALENDAR