BEGIN:VCALENDAR
VERSION:2.0
PRODID:-//German Water Partnership
 //NONSGML Events //EN
CALSCALE:GREGORIAN
X-WR-CALNAME:German Water Partnership
BEGIN:VEVENT
CREATED:20200207T084419Z
UID:11769
DTEND;VALUE=DATE:20200304T173000Z
DTSTART;VALUE=DATE:20200304T130000Z
DTSTAMP:20260421T082950Z
LOCATION:
DESCRIPTION:GWP lädt herzlich zur Sitzung des Arbeitskreis Industriewasserwirtsch
SUMMARY:12. Session Working Group Industrial Water Management
ORGANIZER:German Water Partnership
URL;VALUE=URI:https://germanwaterpartnership.de/eventmanager/12-session-working-group-industrial-water-management/
TRANSP:OPAQUE
BEGIN:VALARM
ACTION:DISPLAY
TRIGGER;VALUE=DATE-TIME:20260421T102950Z
DESCRIPTION:Reminder for 12. Session Working Group Industrial Water Management
END:VALARM
END:VEVENT
END:VCALENDAR