BEGIN:VCALENDAR
VERSION:2.0
PRODID:-//German Water Partnership
 //NONSGML Events //EN
CALSCALE:GREGORIAN
X-WR-CALNAME:German Water Partnership
BEGIN:VEVENT
CREATED:20200203T151711Z
UID:11666
DTEND;VALUE=DATE:20201001T220000Z
DTSTART;VALUE=DATE:20200927T220000Z
DTSTAMP:20260421T082931Z
LOCATION:
DESCRIPTION:<h3>Marktpotenzial in Serbien</h3> Der Stand der Errichtung des Evakui
SUMMARY:Business Trip to Serbia and Northern Macedonia
ORGANIZER:German Water Partnership
URL;VALUE=URI:https://germanwaterpartnership.de/eventmanager/11666/
TRANSP:OPAQUE
BEGIN:VALARM
ACTION:DISPLAY
TRIGGER;VALUE=DATE-TIME:20260421T102931Z
DESCRIPTION:Reminder for Business Trip to Serbia and Northern Macedonia
END:VALARM
END:VEVENT
END:VCALENDAR