BEGIN:VCALENDAR
VERSION:2.0
PRODID:-//German Water Partnership
 //NONSGML Events //EN
CALSCALE:GREGORIAN
X-WR-CALNAME:German Water Partnership
BEGIN:VEVENT
CREATED:20200130T160536Z
UID:11613
DTEND;VALUE=DATE:20200303T170000Z
DTSTART;VALUE=DATE:20200303T130000Z
DTSTAMP:20260421T082932Z
LOCATION:
DESCRIPTION:GWP lädt herzlich zur Sitzung des Regionalforums Südostasien am 03. 
SUMMARY:Regional Section South-East Asia: 10th session
ORGANIZER:German Water Partnership
URL;VALUE=URI:https://germanwaterpartnership.de/eventmanager/regional-section-south-east-asia-10th-session/
TRANSP:OPAQUE
BEGIN:VALARM
ACTION:DISPLAY
TRIGGER;VALUE=DATE-TIME:20260421T102932Z
DESCRIPTION:Reminder for Regional Section South-East Asia: 10th session
END:VALARM
END:VEVENT
END:VCALENDAR