BEGIN:VCALENDAR
VERSION:2.0
PRODID:-//German Water Partnership
 //NONSGML Events //EN
CALSCALE:GREGORIAN
X-WR-CALNAME:German Water Partnership
BEGIN:VEVENT
CREATED:20200121T152704Z
UID:11346
DTEND;VALUE=DATE:20210610T153000Z
DTSTART;VALUE=DATE:20210610T113000Z
DTSTAMP:20260421T082946Z
LOCATION:
DESCRIPTION:Die Jahreskonferenz bietet Ihnen alljährlich die Möglichkeit zum int
SUMMARY:GWP General Meeting and Annual Conference 2021
ORGANIZER:German Water Partnership
URL;VALUE=URI:https://germanwaterpartnership.de/eventmanager/save-the-date-gwp-general-meeting-2021/
TRANSP:OPAQUE
BEGIN:VALARM
ACTION:DISPLAY
TRIGGER;VALUE=DATE-TIME:20260421T102946Z
DESCRIPTION:Reminder for GWP General Meeting and Annual Conference 2021
END:VALARM
END:VEVENT
END:VCALENDAR