BEGIN:VCALENDAR
VERSION:2.0
PRODID:-//German Water Partnership
 //NONSGML Events //EN
CALSCALE:GREGORIAN
X-WR-CALNAME:German Water Partnership
BEGIN:VEVENT
CREATED:20200102T144832Z
UID:10534
DTEND;VALUE=DATE:20240621T220000Z
DTSTART;VALUE=DATE:20240617T220000Z
DTSTAMP:20260423T002832Z
LOCATION:
DESCRIPTION:Die <a href="https://www.siww.com.sg/">Singapore International Water W
SUMMARY:Singapore International Water Week
ORGANIZER:German Water Partnership
URL;VALUE=URI:https://germanwaterpartnership.de/eventmanager/singapore-international-water-week/
TRANSP:OPAQUE
BEGIN:VALARM
ACTION:DISPLAY
TRIGGER;VALUE=DATE-TIME:20260423T022832Z
DESCRIPTION:Reminder for Singapore International Water Week
END:VALARM
END:VEVENT
END:VCALENDAR