BEGIN:VCALENDAR
VERSION:2.0
PRODID:-//German Water Partnership
 //NONSGML Events //EN
CALSCALE:GREGORIAN
X-WR-CALNAME:German Water Partnership
BEGIN:VEVENT
CREATED:20251217T133507Z
UID:31242
DTEND;VALUE=DATE:20260617T220000Z
DTSTART;VALUE=DATE:20260615T220000Z
DTSTAMP:20260423T103925Z
LOCATION:
DESCRIPTION:Die <a href="https://www.siww.com.sg/">Singapore International Water W
SUMMARY:Singapore International Water Week
ORGANIZER:German Water Partnership
URL;VALUE=URI:https://germanwaterpartnership.de/eventmanager/singapore-international-water-week-2/
TRANSP:OPAQUE
BEGIN:VALARM
ACTION:DISPLAY
TRIGGER;VALUE=DATE-TIME:20260423T123925Z
DESCRIPTION:Reminder for Singapore International Water Week
END:VALARM
END:VEVENT
END:VCALENDAR