BEGIN:VCALENDAR
VERSION:2.0
PRODID:-//German Water Partnership
 //NONSGML Events //EN
CALSCALE:GREGORIAN
X-WR-CALNAME:German Water Partnership
BEGIN:VEVENT
CREATED:20251017T145905Z
UID:30891
DTEND;VALUE=DATE:20260122T130000Z
DTSTART;VALUE=DATE:20260122T120000Z
DTSTAMP:20260424T163250Z
LOCATION:
DESCRIPTION:<h3>Wie profitiert meine Organisation vom Netzwerk und wie bringe ich 
SUMMARY:GWP Navigator – Einführung in die Netzwerkarbeit
ORGANIZER:German Water Partnership
URL;VALUE=URI:https://germanwaterpartnership.de/eventmanager/gwp-navigator-01-2026/
TRANSP:OPAQUE
BEGIN:VALARM
ACTION:DISPLAY
TRIGGER;VALUE=DATE-TIME:20260424T183250Z
DESCRIPTION:Reminder for GWP Navigator – Einführung in die Netzwerkarbeit
END:VALARM
END:VEVENT
END:VCALENDAR