BEGIN:VCALENDAR
VERSION:2.0
PRODID:-//German Water Partnership
 //NONSGML Events //EN
CALSCALE:GREGORIAN
X-WR-CALNAME:German Water Partnership
BEGIN:VEVENT
CREATED:20250908T112514Z
UID:30687
DTEND;VALUE=DATE:20251006T150000Z
DTSTART;VALUE=DATE:20251006T140000Z
DTSTAMP:20260424T163331Z
LOCATION:
DESCRIPTION:Weitere Informationen und Anmeldung finden Sie nach Login im Mitgliede
SUMMARY:Regionalforum EECCA | Online-Update
ORGANIZER:German Water Partnership
URL;VALUE=URI:https://germanwaterpartnership.de/eventmanager/regionalforum-eecca-online-update/
TRANSP:OPAQUE
BEGIN:VALARM
ACTION:DISPLAY
TRIGGER;VALUE=DATE-TIME:20260424T183331Z
DESCRIPTION:Reminder for Regionalforum EECCA | Online-Update
END:VALARM
END:VEVENT
END:VCALENDAR