BEGIN:VCALENDAR
VERSION:2.0
PRODID:-//German Water Partnership
 //NONSGML Events //EN
CALSCALE:GREGORIAN
X-WR-CALNAME:German Water Partnership
BEGIN:VEVENT
CREATED:20250707T145128Z
UID:30415
DTEND;VALUE=DATE:20270311T230000Z
DTSTART;VALUE=DATE:20270308T230000Z
DTSTAMP:20260424T163250Z
LOCATION:
DESCRIPTION:<p data-start="202" data-end="536">Die AQUATECH Amsterdam ist die welt
SUMMARY:AQUATECH Amsterdam 2027
ORGANIZER:German Water Partnership
URL;VALUE=URI:https://germanwaterpartnership.de/eventmanager/aquatech-amsterdam-2027/
TRANSP:OPAQUE
BEGIN:VALARM
ACTION:DISPLAY
TRIGGER;VALUE=DATE-TIME:20260424T183250Z
DESCRIPTION:Reminder for AQUATECH Amsterdam 2027
END:VALARM
END:VEVENT
END:VCALENDAR