BEGIN:VCALENDAR
VERSION:2.0
PRODID:-//German Water Partnership
 //NONSGML Events //EN
CALSCALE:GREGORIAN
X-WR-CALNAME:German Water Partnership
BEGIN:VEVENT
CREATED:20250319T085226Z
UID:29331
DTEND;VALUE=DATE:20250327T120000Z
DTSTART;VALUE=DATE:20250327T100000Z
DTSTAMP:20260424T164556Z
LOCATION:
DESCRIPTION:<strong> </strong><strong>"Ask the Experts"</strong> ist eine Veranst
SUMMARY:&#8222\;Ask the Experts&#8220\; | 11th Session &#8211\; Utility Partnerships
ORGANIZER:German Water Partnership
URL;VALUE=URI:https://germanwaterpartnership.de/eventmanager/ask-the-experts-11th-session-utility-partnerships/
TRANSP:OPAQUE
BEGIN:VALARM
ACTION:DISPLAY
TRIGGER;VALUE=DATE-TIME:20260424T184556Z
DESCRIPTION:Reminder for &#8222\;Ask the Experts&#8220\; | 11th Session &#8211\; Utility Partnerships
END:VALARM
END:VEVENT
END:VCALENDAR