BEGIN:VCALENDAR
VERSION:2.0
PRODID:-//German Water Partnership
 //NONSGML Events //EN
CALSCALE:GREGORIAN
X-WR-CALNAME:German Water Partnership
BEGIN:VEVENT
CREATED:20250325T104720Z
UID:29325
DTEND;VALUE=DATE:20250410T140000Z
DTSTART;VALUE=DATE:20250410T090000Z
DTSTAMP:20260424T164616Z
LOCATION:
DESCRIPTION:Das Verbundprojekt Côte d'Ivoire lädt Sie herzlich zu einer <strong>
SUMMARY:Consortial Project Côte d&#8217\;Ivoire | Informational Event
ORGANIZER:German Water Partnership
URL;VALUE=URI:https://germanwaterpartnership.de/eventmanager/verbundprojekt-cote-divoire-auftakt-und-informationsveranstaltung/
TRANSP:OPAQUE
BEGIN:VALARM
ACTION:DISPLAY
TRIGGER;VALUE=DATE-TIME:20260424T184616Z
DESCRIPTION:Reminder for Consortial Project Côte d&#8217\;Ivoire | Informational Event
END:VALARM
END:VEVENT
END:VCALENDAR