BEGIN:VCALENDAR
VERSION:2.0
PRODID:-//German Water Partnership
 //NONSGML Events //EN
CALSCALE:GREGORIAN
X-WR-CALNAME:German Water Partnership
BEGIN:VEVENT
CREATED:20250218T071544Z
UID:28955
DTEND;VALUE=DATE:20250403T123000Z
DTSTART;VALUE=DATE:20250402T130000Z
DTSTAMP:20260424T163251Z
LOCATION:
DESCRIPTION:Wir laden Sie herzlich ein zu unserer 12. Sitzung des Arbeitskreises L
SUMMARY:Working Group Agricultural Irrigation | 12th Session
ORGANIZER:German Water Partnership
URL;VALUE=URI:https://germanwaterpartnership.de/eventmanager/working-group-agricultural-irrigation-12th-session/
TRANSP:OPAQUE
BEGIN:VALARM
ACTION:DISPLAY
TRIGGER;VALUE=DATE-TIME:20260424T183251Z
DESCRIPTION:Reminder for Working Group Agricultural Irrigation | 12th Session
END:VALARM
END:VEVENT
END:VCALENDAR