BEGIN:VCALENDAR
VERSION:2.0
PRODID:-//German Water Partnership
 //NONSGML Events //EN
CALSCALE:GREGORIAN
X-WR-CALNAME:German Water Partnership
BEGIN:VEVENT
CREATED:20250115T125100Z
UID:28671
DTEND;VALUE=DATE:20250422T220000Z
DTSTART;VALUE=DATE:20250420T220000Z
DTSTAMP:20260424T164327Z
LOCATION:
DESCRIPTION:Die IE expo China ist die führende Fachmesse für Umwelttechnologien 
SUMMARY:IE expo China 2025
ORGANIZER:German Water Partnership
URL;VALUE=URI:https://germanwaterpartnership.de/eventmanager/ie-expo-china-2025/
TRANSP:OPAQUE
BEGIN:VALARM
ACTION:DISPLAY
TRIGGER;VALUE=DATE-TIME:20260424T184327Z
DESCRIPTION:Reminder for IE expo China 2025
END:VALARM
END:VEVENT
END:VCALENDAR