BEGIN:VCALENDAR
VERSION:2.0
PRODID:-//German Water Partnership
 //NONSGML Events //EN
CALSCALE:GREGORIAN
X-WR-CALNAME:German Water Partnership
BEGIN:VEVENT
CREATED:20241112T104007Z
UID:28067
DTEND;VALUE=DATE:20241126T153000Z
DTSTART;VALUE=DATE:20241126T140000Z
DTSTAMP:20260424T163213Z
LOCATION:
DESCRIPTION:<p class="text-build-content">Hiermit lade ich Sie herzlichst zu einer
SUMMARY:Working Group Urban Water Resilience | Extraordinary meeting
ORGANIZER:German Water Partnership
URL;VALUE=URI:https://germanwaterpartnership.de/eventmanager/28067/
TRANSP:OPAQUE
BEGIN:VALARM
ACTION:DISPLAY
TRIGGER;VALUE=DATE-TIME:20260424T183213Z
DESCRIPTION:Reminder for Working Group Urban Water Resilience | Extraordinary meeting
END:VALARM
END:VEVENT
END:VCALENDAR