BEGIN:VCALENDAR
VERSION:2.0
PRODID:-//German Water Partnership
 //NONSGML Events //EN
CALSCALE:GREGORIAN
X-WR-CALNAME:German Water Partnership
BEGIN:VEVENT
CREATED:20240913T100738Z
UID:27508
DTEND;VALUE=DATE:20250306T130000Z
DTSTART;VALUE=DATE:20250306T083000Z
DTSTAMP:20260424T164601Z
LOCATION:
DESCRIPTION:Wir laden Sie herzlich zu unserer 17. Sitzung des Regionalforums Norda
SUMMARY:Regional Forum North Africa | 17th Session
ORGANIZER:German Water Partnership
URL;VALUE=URI:https://germanwaterpartnership.de/eventmanager/regional-forum-north-africa-17th-session/
TRANSP:OPAQUE
BEGIN:VALARM
ACTION:DISPLAY
TRIGGER;VALUE=DATE-TIME:20260424T184601Z
DESCRIPTION:Reminder for Regional Forum North Africa | 17th Session
END:VALARM
END:VEVENT
END:VCALENDAR