BEGIN:VCALENDAR
VERSION:2.0
PRODID:-//German Water Partnership
 //NONSGML Events //EN
CALSCALE:GREGORIAN
X-WR-CALNAME:German Water Partnership
BEGIN:VEVENT
CREATED:20240701T075413Z
UID:27077
DTEND;VALUE=DATE:20240709T113000Z
DTSTART;VALUE=DATE:20240709T103000Z
DTSTAMP:20260421T093017Z
LOCATION:
DESCRIPTION:Äthiopien und Uganda entwickeln sich im Bereich der Wasser- und Abwas
SUMMARY:Webinar Ethiopia and Uganda &#8211\; Recent Market Developments and Opportunities
ORGANIZER:German Water Partnership
URL;VALUE=URI:https://germanwaterpartnership.de/eventmanager/webinar-ethiopia-and-uganda/
TRANSP:OPAQUE
BEGIN:VALARM
ACTION:DISPLAY
TRIGGER;VALUE=DATE-TIME:20260421T113017Z
DESCRIPTION:Reminder for Webinar Ethiopia and Uganda &#8211\; Recent Market Developments and Opportunities
END:VALARM
END:VEVENT
END:VCALENDAR