BEGIN:VCALENDAR
VERSION:2.0
PRODID:-//German Water Partnership
 //NONSGML Events //EN
CALSCALE:GREGORIAN
X-WR-CALNAME:German Water Partnership
BEGIN:VEVENT
CREATED:20240628T063232Z
UID:27074
DTEND;VALUE=DATE:20240715T220000Z
DTSTART;VALUE=DATE:20240715T220000Z
DTSTAMP:20260421T082745Z
LOCATION:
DESCRIPTION:<strong>Water resources in Central Asia: Integration of scientific kno
SUMMARY:7th Tashkent Water Security Lectures
ORGANIZER:German Water Partnership
URL;VALUE=URI:https://germanwaterpartnership.de/eventmanager/7th-tashkent-water-security-lectures/
TRANSP:OPAQUE
BEGIN:VALARM
ACTION:DISPLAY
TRIGGER;VALUE=DATE-TIME:20260421T102745Z
DESCRIPTION:Reminder for 7th Tashkent Water Security Lectures
END:VALARM
END:VEVENT
END:VCALENDAR