BEGIN:VCALENDAR
VERSION:2.0
PRODID:-//German Water Partnership
 //NONSGML Events //EN
CALSCALE:GREGORIAN
X-WR-CALNAME:German Water Partnership
BEGIN:VEVENT
CREATED:20230622T132619Z
UID:24127
DTEND;VALUE=DATE:20230829T160000Z
DTSTART;VALUE=DATE:20230829T130000Z
DTSTAMP:20260421T093207Z
LOCATION:
DESCRIPTION:Wir laden Sie herzlich zur 22. Sitzung des Regionalforums Lateinamerik
SUMMARY:Regional Section Latin America | 22nd Session
ORGANIZER:German Water Partnership
URL;VALUE=URI:https://germanwaterpartnership.de/eventmanager/regional-section-latin-america-22nd-session/
TRANSP:OPAQUE
BEGIN:VALARM
ACTION:DISPLAY
TRIGGER;VALUE=DATE-TIME:20260421T113207Z
DESCRIPTION:Reminder for Regional Section Latin America | 22nd Session
END:VALARM
END:VEVENT
END:VCALENDAR