BEGIN:VCALENDAR
VERSION:2.0
PRODID:-//German Water Partnership
 //NONSGML Events //EN
CALSCALE:GREGORIAN
X-WR-CALNAME:German Water Partnership
BEGIN:VEVENT
CREATED:20230616T124008Z
UID:24105
DTEND;VALUE=DATE:20230628T130000Z
DTSTART;VALUE=DATE:20230628T123000Z
DTSTAMP:20260421T095443Z
LOCATION:
DESCRIPTION:Die Betreiberplattform zur Stärkung von Partnerschaften kommunaler Un
SUMMARY:Betreiberpartnerschaften | Sprechstunde für kommunale Betreiber
ORGANIZER:German Water Partnership
URL;VALUE=URI:https://germanwaterpartnership.de/eventmanager/betreiberpartnerschaften-sprechstunde-fuer-kommunale-betreiber-9/
TRANSP:OPAQUE
BEGIN:VALARM
ACTION:DISPLAY
TRIGGER;VALUE=DATE-TIME:20260421T115443Z
DESCRIPTION:Reminder for Betreiberpartnerschaften | Sprechstunde für kommunale Betreiber
END:VALARM
END:VEVENT
END:VCALENDAR