BEGIN:VCALENDAR
VERSION:2.0
PRODID:-//German Water Partnership
 //NONSGML Events //EN
CALSCALE:GREGORIAN
X-WR-CALNAME:German Water Partnership
BEGIN:VEVENT
CREATED:20230206T162746Z
UID:22973
DTEND;VALUE=DATE:20230629T220000Z
DTSTART;VALUE=DATE:20230625T220000Z
DTSTAMP:20260421T092957Z
LOCATION:
DESCRIPTION:<h3>Allgemeine Informationen zur Veranstaltung</h3> <em>Vom 26. bis zu
SUMMARY:Business Trip Portugal
ORGANIZER:German Water Partnership
URL;VALUE=URI:https://germanwaterpartnership.de/eventmanager/business-trip-portugal/
TRANSP:OPAQUE
BEGIN:VALARM
ACTION:DISPLAY
TRIGGER;VALUE=DATE-TIME:20260421T112957Z
DESCRIPTION:Reminder for Business Trip Portugal
END:VALARM
END:VEVENT
END:VCALENDAR