BEGIN:VCALENDAR
VERSION:2.0
PRODID:-//German Water Partnership
 //NONSGML Events //EN
CALSCALE:GREGORIAN
X-WR-CALNAME:German Water Partnership
BEGIN:VEVENT
CREATED:20230124T100927Z
UID:22752
DTEND;VALUE=DATE:20231129T230000Z
DTSTART;VALUE=DATE:20231126T230000Z
DTSTAMP:20260424T160313Z
LOCATION:
DESCRIPTION:<em>Vom <strong>27.11.2023 bis zum 30.11.2023</strong> führt die <str
SUMMARY:Showcase Event (Leistungsschau) Chile
ORGANIZER:German Water Partnership
URL;VALUE=URI:https://germanwaterpartnership.de/eventmanager/showcase-event-leistungsschau-chile/
TRANSP:OPAQUE
BEGIN:VALARM
ACTION:DISPLAY
TRIGGER;VALUE=DATE-TIME:20260424T180313Z
DESCRIPTION:Reminder for Showcase Event (Leistungsschau) Chile
END:VALARM
END:VEVENT
END:VCALENDAR