BEGIN:VCALENDAR
VERSION:2.0
PRODID:-//German Water Partnership
 //NONSGML Events //EN
CALSCALE:GREGORIAN
X-WR-CALNAME:German Water Partnership
BEGIN:VEVENT
CREATED:20210521T092426Z
UID:16646
DTEND;VALUE=DATE:20210921T100000Z
DTSTART;VALUE=DATE:20210921T073000Z
DTSTAMP:20260421T093035Z
LOCATION:
DESCRIPTION:Das Regionalforum Nordafrika und Jordanien lädt Sie herzlich zur 08. 
SUMMARY:Regionalforum North Africa and Jordan I 8th Session
ORGANIZER:German Water Partnership
URL;VALUE=URI:https://germanwaterpartnership.de/eventmanager/regionalforum-north-africa-and-jordan-i-8th-session/
TRANSP:OPAQUE
BEGIN:VALARM
ACTION:DISPLAY
TRIGGER;VALUE=DATE-TIME:20260421T113035Z
DESCRIPTION:Reminder for Regionalforum North Africa and Jordan I 8th Session
END:VALARM
END:VEVENT
END:VCALENDAR