BEGIN:VCALENDAR
VERSION:2.0
PRODID:-//German Water Partnership
 //NONSGML Events //EN
CALSCALE:GREGORIAN
X-WR-CALNAME:German Water Partnership
BEGIN:VEVENT
CREATED:20210326T134406Z
UID:16157
DTEND;VALUE=DATE:20210510T160000Z
DTSTART;VALUE=DATE:20210510T140000Z
DTSTAMP:20260421T094358Z
LOCATION:
DESCRIPTION:Im Namen der Regionalforenleitung möchten wir Sie herzlich zu einem v
SUMMARY:Regional Section North America | 13th Session
ORGANIZER:German Water Partnership
URL;VALUE=URI:https://germanwaterpartnership.de/eventmanager/regionalforum-nordamerika-13-sitzung/
TRANSP:OPAQUE
BEGIN:VALARM
ACTION:DISPLAY
TRIGGER;VALUE=DATE-TIME:20260421T114358Z
DESCRIPTION:Reminder for Regional Section North America | 13th Session
END:VALARM
END:VEVENT
END:VCALENDAR