BEGIN:VCALENDAR
VERSION:2.0
PRODID:-//German Water Partnership
 //NONSGML Events //EN
CALSCALE:GREGORIAN
X-WR-CALNAME:German Water Partnership
BEGIN:VEVENT
CREATED:20201207T134220Z
UID:15167
DTEND;VALUE=DATE:20210610T103000Z
DTSTART;VALUE=DATE:20210610T080000Z
DTSTAMP:20260421T093159Z
LOCATION:
DESCRIPTION:<p class="text-build-content" data-testid="stwsV7To0"><span style="fon
SUMMARY:17. GWP Mitgliederversammlung
ORGANIZER:German Water Partnership
URL;VALUE=URI:https://germanwaterpartnership.de/eventmanager/17-gwp-mitgliederversammlung/
TRANSP:OPAQUE
BEGIN:VALARM
ACTION:DISPLAY
TRIGGER;VALUE=DATE-TIME:20260421T113159Z
DESCRIPTION:Reminder for 17. GWP Mitgliederversammlung
END:VALARM
END:VEVENT
END:VCALENDAR