BEGIN:VCALENDAR
VERSION:2.0
PRODID:-//German Water Partnership
 //NONSGML Events //EN
CALSCALE:GREGORIAN
X-WR-CALNAME:German Water Partnership
BEGIN:VEVENT
CREATED:20201006T111738Z
UID:14754
DTEND;VALUE=DATE:20201104T230000Z
DTSTART;VALUE=DATE:20201103T230000Z
DTSTAMP:20260421T095229Z
LOCATION:
DESCRIPTION:On behalf of the <a href="http://www.bmz.de/de/themen/privatwirtschaft
SUMMARY:Digital Business Event: Water and Waste Water Treatment Technology and Services in Ethiopia
ORGANIZER:German Water Partnership
URL;VALUE=URI:https://germanwaterpartnership.de/eventmanager/digital-business-event-water-and-waste-water-treatment-technology-and-services-in-ethiopia/
TRANSP:OPAQUE
BEGIN:VALARM
ACTION:DISPLAY
TRIGGER;VALUE=DATE-TIME:20260421T115229Z
DESCRIPTION:Reminder for Digital Business Event: Water and Waste Water Treatment Technology and Services in Ethiopia
END:VALARM
END:VEVENT
END:VCALENDAR