BEGIN:VCALENDAR
VERSION:2.0
PRODID:-//German Water Partnership
 //NONSGML Events //EN
CALSCALE:GREGORIAN
X-WR-CALNAME:German Water Partnership
BEGIN:VEVENT
CREATED:20200826T130149Z
UID:14641
DTEND;VALUE=DATE:20201008T093000Z
DTSTART;VALUE=DATE:20201008T080000Z
DTSTAMP:20260421T095639Z
LOCATION:
DESCRIPTION:Aufbauend auf den gelungenen Austausch zwischen GWP-Mitgliedern und Te
SUMMARY:Online-Seminar mit KfW zu Vergaberichtlinien &#038\; Musterausschreibungsdokumenten
ORGANIZER:German Water Partnership
URL;VALUE=URI:https://germanwaterpartnership.de/eventmanager/online-seminar-mit-der-kfw-zu-vergaberichtlinien-und-musterausschreibungsdokumenten/
TRANSP:OPAQUE
BEGIN:VALARM
ACTION:DISPLAY
TRIGGER;VALUE=DATE-TIME:20260421T115639Z
DESCRIPTION:Reminder for Online-Seminar mit KfW zu Vergaberichtlinien &#038\; Musterausschreibungsdokumenten
END:VALARM
END:VEVENT
END:VCALENDAR